BEGIN:VCALENDAR
VERSION:2.0
PRODID:-//Squarespace Inc/Squarespace 6//v6//EN
BEGIN:VEVENT
UID:5ed97d245e6be5361eef8cdc@squarespace.com
DTSTAMP:20200610T073832Z
DTSTART:20200621T063000Z
DTEND:20200622T093000Z
SUMMARY:Lōemis and Field &amp\; Green present: A Winter Solstice Feast
GEO:-41.292558;174.782319
LOCATION:Field & Green\, 262 Wakefield Street\, Wellington\, 6011\, New Zea
 land
END:VEVENT
END:VCALENDAR
