BEGIN:VCALENDAR
VERSION:2.0
PRODID:-//Squarespace Inc/Squarespace 6//v6//EN
BEGIN:VEVENT
UID:5edc8dab6b90352c845a9b6d@squarespace.com
DTSTAMP:20200620T210206Z
DTSTART:20200621T050000Z
DTEND:20200621T060000Z
SUMMARY:Winter Solstice Ritual
GEO:-41.291307;174.794108
LOCATION:Freyberg Beach\, Oriental Bay\, Wellington\, 6011\, New Zealand
END:VEVENT
END:VCALENDAR
